BEGIN:VCALENDAR
VERSION:2.0
PRODID:-//Eastern 4-H Center - ECPv6.15.20//NONSGML v1.0//EN
CALSCALE:GREGORIAN
METHOD:PUBLISH
X-WR-CALNAME:Eastern 4-H Center
X-ORIGINAL-URL:https://eastern4hcenter.org
X-WR-CALDESC:Events for Eastern 4-H Center
REFRESH-INTERVAL;VALUE=DURATION:PT1H
X-Robots-Tag:noindex
X-PUBLISHED-TTL:PT1H
BEGIN:VTIMEZONE
TZID:America/New_York
BEGIN:DAYLIGHT
TZOFFSETFROM:-0500
TZOFFSETTO:-0400
TZNAME:EDT
DTSTART:20240310T070000
END:DAYLIGHT
BEGIN:STANDARD
TZOFFSETFROM:-0400
TZOFFSETTO:-0500
TZNAME:EST
DTSTART:20241103T060000
END:STANDARD
BEGIN:DAYLIGHT
TZOFFSETFROM:-0500
TZOFFSETTO:-0400
TZNAME:EDT
DTSTART:20250309T070000
END:DAYLIGHT
BEGIN:STANDARD
TZOFFSETFROM:-0400
TZOFFSETTO:-0500
TZNAME:EST
DTSTART:20251102T060000
END:STANDARD
BEGIN:DAYLIGHT
TZOFFSETFROM:-0500
TZOFFSETTO:-0400
TZNAME:EDT
DTSTART:20260308T070000
END:DAYLIGHT
BEGIN:STANDARD
TZOFFSETFROM:-0400
TZOFFSETTO:-0500
TZNAME:EST
DTSTART:20261101T060000
END:STANDARD
END:VTIMEZONE
BEGIN:VEVENT
DTSTART;TZID=America/New_York:20250714T073000
DTEND;TZID=America/New_York:20250718T173000
DTSTAMP:20260421T140322
CREATED:20221209T191712Z
LAST-MODIFIED:20250617T124641Z
UID:1335-1752478200-1752859800@eastern4hcenter.org
SUMMARY:Day Camp Session
DESCRIPTION:Register Now\n\n Registration FULL \n\nDay Camp\nDay Camp at the Eastern 4-H Center gives local youth ages 5 – 12 the opportunity to experience all the fun of summer camp while sleeping in their own beds at night! Day campers learn while participating in activities like kayaking\, canoeing\, rock climbing\, crafts\, sports activities\, archery\, and swimming.  \n\nCampers are provided lunch and an afternoon snack every day. Day camp activities are facilitated by well-trained Counselors and Program Instructors.  \n\nDaily Schedule: \nDrop Off – 7:30 – 8:30 a.m. \nProgram Time – 8:30 a.m. – 12:00 p.m. \nLunch – 12:00 – 1:00 p.m. \nRest Period – 1:00 – 1:30 p.m. \nProgram Time – 1:45 – 4:30 p.m. (Snack at 3:00 p.m.) \nPick Up – 4:30 – 5:30 p.m. \n\nWhat to Wear to Camp: \n\nComfortable Clothing\n1 pair of closed-toe shoes (required when not at the pool or waterfront)\n\nWhat to Bring with you to Camp:  \n\n1 pair “water” shoes\n1 pool/waterfront towel\nSwimsuit\nRain gear or jacket\nInsect repellant\nSunscreen\nReusable Water Bottle\nSmall tote bag – To carry and organize their belongings\nPillow with pillowcase & light blanket – To use during rest hour
URL:https://eastern4hcenter.org/event/day-camp-session/
LOCATION:Eastern 4-H Center\, 100 N Clover Way\, Columbia\, NC\, 27925\, United States
CATEGORIES:Day Camp
ATTACH;FMTTYPE=image/jpeg:https://eastern4hcenter.org/wp-content/uploads/2022/12/summer-camp2.jpg
END:VEVENT
END:VCALENDAR